BEGIN:VCALENDAR
VERSION:2.0
PRODID:-//hacksw/handcal//NONSGML v1.0//EN
BEGIN:VEVENT
UID:Visning Ballerud
DTSTAMP:20260422T171907Z
LOCATION:Johs Faales vei 86, Høvik
ORGANIZER;CN=:MAILTO:
DTSTART:20260426T100000Z
DTEND:20260426T104500Z
SUMMARY:Visning Ballerud
DESCRIPTION;ENCODING=QUOTED-PRINTABLE:Velkommen til visning på Ballerud=0D=0A
END:VEVENT
END:VCALENDAR
