BEGIN:VCALENDAR
VERSION:2.0
PRODID:-//hacksw/handcal//NONSGML v1.0//EN
BEGIN:VEVENT
UID:Visning Lørenskog Stasjonsby 
DTSTAMP:20260420T011158Z
LOCATION:Ødegårds vei 48, Lørenskog
ORGANIZER;CN=:MAILTO:
DTSTART:20260429T143000Z
DTEND:20260429T151500Z
SUMMARY:Visning Lørenskog Stasjonsby 
DESCRIPTION;ENCODING=QUOTED-PRINTABLE:Velkommen til visning på Lørenskog Stasjonsby =0D=0A
END:VEVENT
END:VCALENDAR
