BEGIN:VCALENDAR
VERSION:2.0
PRODID:-//hacksw/handcal//NONSGML v1.0//EN
BEGIN:VEVENT
UID:Visning Sandsliåsen Park
DTSTAMP:20260421T095805Z
LOCATION:Sandsliåsen 55, 
ORGANIZER;CN=:MAILTO:
DTSTART:20260426T110000Z
DTEND:20260426T120000Z
SUMMARY:Visning Sandsliåsen Park
DESCRIPTION;ENCODING=QUOTED-PRINTABLE:Velkommen til visning på Sandsliåsen Park=0D=0A
END:VEVENT
END:VCALENDAR
